BEGIN:VCALENDAR
VERSION:2.0
PRODID:-//wp-events-plugin.com//7.2.3.1//EN
TZID:Europe/Zurich
X-WR-TIMEZONE:Europe/Zurich
BEGIN:VEVENT
UID:1834@familienzentrum-bezirk-affoltern.ch
DTSTART;TZID=Europe/Zurich:20260114T150000
DTEND;TZID=Europe/Zurich:20260708T153000
DTSTAMP:20260112T151243Z
URL:https://familienzentrum-bezirk-affoltern.ch/kurse-anlaesse/gschichte-z
 iit-1sem-2026/
SUMMARY:Gschichte Ziit
DESCRIPTION:Wir laden Euch ein d’Gschichte Ziit im Familienzentrum zu erl
 eben.\nEinmal im Monat findet im Familienzentrum ein Vorlese-Nachmittag st
 att. Zwischen 15.00 - 15.30 Uhr wird eine Geschichte für unsere kleinen u
 nd grossen Zuhörer erzählt.\n\nEs ist keine Anmeldung nötig. Die Geschi
 chte beginnt um 15:00 Uhr\, seid also pünktlich\, so dass die Geschichten
 erzähler nicht gestört werden.\n\nVorher und nachher gibt es in der Kaff
 ee-Ecke leckeren Kuchen und Kaffee. Und die Kinder können das Spielzimmer
  geniessen.\n\nGeeignet für alle Kinder und ihre Begleitpersonen\, die Sp
 ass an den Geschichten haben.\n\nFlyer herunterladen\nTermine:\n\n 	Mittwo
 ch\, 14.01.2026\n 	Mittwoch\, 11.02.2026\n 	Mittwoch\, 11.03.2026\n 	Mittw
 och\, 08.04.2026\n 	Mittwoch\, 13.05.2026\n 	Mittwoch\, 10.06.2026\n 	Mitt
 woch\, 08.07.2026\n\n&nbsp\;\n\n
ATTACH;FMTTYPE=image/jpeg:https://familienzentrum-bezirk-affoltern.ch/wp-c
 ontent/uploads/2025/12/Gschichte-Zeit.png
CATEGORIES:Für Kinder ab 3 Jahre bis Erstklässler
LOCATION:Familienzentrum Bezirk Affoltern\, Kafi Lollipop\, Zürichstrasse 
 136\, Affoltern am Albis\, 8910\, Schweiz
GEO:47.280944;8.454241
X-APPLE-STRUCTURED-LOCATION;VALUE=URI;X-ADDRESS=Zürichstrasse 136\, Affolt
 ern am Albis\, 8910\, Schweiz;X-APPLE-RADIUS=100;X-TITLE=Familienzentrum B
 ezirk Affoltern\, Kafi Lollipop:geo:47.280944,8.454241
END:VEVENT
BEGIN:VTIMEZONE
TZID:Europe/Zurich
X-LIC-LOCATION:Europe/Zurich
BEGIN:STANDARD
DTSTART:20251026T020000
TZOFFSETFROM:+0200
TZOFFSETTO:+0100
TZNAME:CET
END:STANDARD
BEGIN:DAYLIGHT
DTSTART:20260329T030000
TZOFFSETFROM:+0100
TZOFFSETTO:+0200
TZNAME:CEST
END:DAYLIGHT
END:VTIMEZONE
END:VCALENDAR