BEGIN:VCALENDAR
VERSION:2.0
PRODID:-//wp-events-plugin.com//7.2.3.1//EN
TZID:Europe/Zurich
X-WR-TIMEZONE:Europe/Zurich
BEGIN:VEVENT
UID:1807@familienzentrum-bezirk-affoltern.ch
DTSTART;TZID=Europe/Zurich:20260110T093000
DTEND;TZID=Europe/Zurich:20260613T113000
DTSTAMP:20260112T153349Z
URL:https://familienzentrum-bezirk-affoltern.ch/kurse-anlaesse/vater-kind-
 treff-1sem-2026/
SUMMARY:Vater-Kind-Treff
DESCRIPTION:Spass haben. Austauschen. Vernetzen. Gemeinsam wachsen.\nEin Tr
 effpunkt für Väter und ihre Kinder in einem lockeren und\nunverbindliche
 n Rahmen\, in dem Spiel &amp\; Spass im Mittelpunkt stehen.\nIm Treff erwa
 rten Dich spielerische Aktivitäten\, Raum für Austausch und\nwertvolle G
 espräche\, regionale Vernetzung und geselliges Zusammensein.\nGetränke u
 nd Snacks sind vorhanden und werden zum Selbstkostenpreis\nangeboten. Das 
 Angebot ist kostenlos (Spenden sind herzlich willkommen).\n\nEine Anmeldun
 g ist nicht erforderlich - einfach vorbeikommen!\n\nJeweils am Samstag\n10
 .01. / 14.02. / 07.03. /\n11.04. / 09.05. / 13.06.2026
ATTACH;FMTTYPE=image/jpeg:https://familienzentrum-bezirk-affoltern.ch/wp-c
 ontent/uploads/2025/12/VaKi-Treff-1Sem-2026.png
CATEGORIES:VaKi
LOCATION:Familienzentrum Bezirk Affoltern\, Hüeti-Räumlichkeiten\, 2. Sto
 ck\, Zürichstrasse 136\, Affoltern am Albis\, 8910\, Schweiz
GEO:47.280944;8.454241
X-APPLE-STRUCTURED-LOCATION;VALUE=URI;X-ADDRESS=Zürichstrasse 136\, Affolt
 ern am Albis\, 8910\, Schweiz;X-APPLE-RADIUS=100;X-TITLE=Familienzentrum B
 ezirk Affoltern\, Hüeti-Räumlichkeiten\, 2. Stock:geo:47.280944,8.454241
END:VEVENT
BEGIN:VTIMEZONE
TZID:Europe/Zurich
X-LIC-LOCATION:Europe/Zurich
BEGIN:STANDARD
DTSTART:20251026T020000
TZOFFSETFROM:+0200
TZOFFSETTO:+0100
TZNAME:CET
END:STANDARD
BEGIN:DAYLIGHT
DTSTART:20260329T030000
TZOFFSETFROM:+0100
TZOFFSETTO:+0200
TZNAME:CEST
END:DAYLIGHT
END:VTIMEZONE
END:VCALENDAR